BEGIN:VCALENDAR
VERSION:2.0
PRODID:-//Juhhé! Business - ECPv6.15.20//NONSGML v1.0//EN
CALSCALE:GREGORIAN
METHOD:PUBLISH
X-WR-CALNAME:Juhhé! Business
X-ORIGINAL-URL:https://juhhe.hu
X-WR-CALDESC:Események Juhhé! Business
REFRESH-INTERVAL;VALUE=DURATION:PT1H
X-Robots-Tag:noindex
X-PUBLISHED-TTL:PT1H
BEGIN:VTIMEZONE
TZID:Europe/Budapest
BEGIN:DAYLIGHT
TZOFFSETFROM:+0100
TZOFFSETTO:+0200
TZNAME:CEST
DTSTART:20240331T010000
END:DAYLIGHT
BEGIN:STANDARD
TZOFFSETFROM:+0200
TZOFFSETTO:+0100
TZNAME:CET
DTSTART:20241027T010000
END:STANDARD
BEGIN:DAYLIGHT
TZOFFSETFROM:+0100
TZOFFSETTO:+0200
TZNAME:CEST
DTSTART:20250330T010000
END:DAYLIGHT
BEGIN:STANDARD
TZOFFSETFROM:+0200
TZOFFSETTO:+0100
TZNAME:CET
DTSTART:20251026T010000
END:STANDARD
BEGIN:DAYLIGHT
TZOFFSETFROM:+0100
TZOFFSETTO:+0200
TZNAME:CEST
DTSTART:20260329T010000
END:DAYLIGHT
BEGIN:STANDARD
TZOFFSETFROM:+0200
TZOFFSETTO:+0100
TZNAME:CET
DTSTART:20261025T010000
END:STANDARD
END:VTIMEZONE
BEGIN:VEVENT
DTSTART;TZID=Europe/Budapest:20251210T083000
DTEND;TZID=Europe/Budapest:20251210T120000
DTSTAMP:20260421T104704
CREATED:20250123T195152Z
LAST-MODIFIED:20251204T125828Z
UID:4889-1765355400-1765368000@juhhe.hu
SUMMARY:Debreceni klubtalálkozó
DESCRIPTION:Juhhé! Kiváló helyen jársz!  Ez az esemény nem csak egy egyszerű találkozó lesz. Képzeld el\, hogy egy helyen találkozhatsz a régió legkiválóbb vállalkozóival\, akik hasonló célokkal és kihívásokkal néznek szembe\, mint Te. Ez az a lehetőség\, ahol új üzleti partnerekkel\, potenciális ügyfelekkel és inspiráló személyekkel találkozhatsz\, akik ugyanazért jönnek össze mint TE! Segíthetnek tovább növelni a vállalkozásodat. Tanulj\, építs kapcsolatokat és érezd jól magad VELÜNK!  Kikkel találkozhatsz?  Találkozhatsz lokális szakértőinkkel\, mint pl. cégjogász\, adószakértő\, tűz-munkavédelmi szakértő\, szervezetfejlesztő vagy pályázatíró.Vagy olyan vállalkozóval aki jól támogat téged és a vállalkozásod\, mint egy könyvelő\, üzleti mentor\, szövegíró vagy marketinges.És számos olyannal\, akivel egymást tudjátok támogatni\, mint egy privátbankár\, biztosítás vagy hitelszakértő\, cateringes\, webes\, nyomdász\, számos építőipari szereplő vagy HORECA/FMCG gyártó és még sokan mások! Gyere el\, ismerd meg őket\, mert sosem tudhatod\, hogy kit tanít a nyelvtanár\, kinek az ablakát mossa a takarító vagy kinek tervez házat az építész?   Ha ez még mindig nem volt elég\, összeszedtük miért érdemes hozzánk eljönnöd? Értékes kapcsolatok: Olyan emberekkel találkozhatsz\, akik valóban értenek a vállalkozói lét nehézségeihez és örömeihez egyaránt és nem félnek tapasztalataikat megosztani másokkal sem! Üzleti lehetőségek: Új üzleti lehetőségek nyílnak meg előtted\, amelyekre eddig talán nem is gondoltál. Sokszor gondoljuk azt\, hogy például én mint egy könyvelő mit kezdjek egy asztalossal\, de láttál már olyan embert akinek a homlokára van írva\, hogy kiket ismer és milyen kapcsolatai vannak? Inspiráció és tanulás: Kiemelkedő előadók osztják meg tapasztalataikat és stratégiáikat\, amelyek segítenek még sikeresebbé válni. Közösség: Egy támogató közösség részévé válhatsz\, ahol mindenki segíti a másikat a fejlődésben és növekedésben\, ha nem hiszed gyere el és nézd meg magad! Minden találkozó során megismerhetsz egy klubtagunkat tartalmasabban és kézzelfogható\, vállalkozásodba azonnal beépíthető tudást kaphatsz! 								\n				\n				\n				\n																														\n				\n				\n				\n									Helyszín: Carol Art & Cafe4027 Debrecen\, Böszörményi út 68.\, FÜREDI KAPU\, Laktanya mellettProgram: 08:30 Kapunyitás és regisztráció9:00 Köszöntő és betekintés a Juhhé! üzleti klubba\, edukáció és irányított kapcsolatépítés.11:00 Ebéd és kötetlen kapcsolatépítés.12:00 BúcsúRészvételi díj: 6 000 Ft+Áfa A részvétel regisztrációhoz kötött\, mely tartalmazza a szendvics ebédet\, kávét stb. és a résztvevők elérhetőségeinek listáját! Parkolás: Közterületen díj ellenében! Tarts velünk és éld át az igazi Juhhé! érzést! 								\n				\n					\n				\n		\n					\n				\n				\n									\n					\n						\n									kÉREM A JEGYEM!
URL:https://juhhe.hu/esemeny/debreceni-klubtalalkozo-251210/
LOCATION:Carol Art & Cafe\, Böszörményi út 68.\, Füredi Kapu\, Laktanya mellett\, Debrecen\, Hajdú-Bihar Vármegye\, 4027\, Hungary
CATEGORIES:Debrecen,Üzleti találkozók
ATTACH;FMTTYPE=image/png:https://juhhe.hu/wp-content/uploads/2025/01/Debrecen.png
ORGANIZER;CN="Juhh%C3%A9! Business":MAILTO:info@juhhe.com
END:VEVENT
END:VCALENDAR