BEGIN:VCALENDAR
VERSION:2.0
PRODID:-//Juhhé! Business - ECPv6.15.20//NONSGML v1.0//EN
CALSCALE:GREGORIAN
METHOD:PUBLISH
X-WR-CALNAME:Juhhé! Business
X-ORIGINAL-URL:https://juhhe.hu
X-WR-CALDESC:Események Juhhé! Business
REFRESH-INTERVAL;VALUE=DURATION:PT1H
X-Robots-Tag:noindex
X-PUBLISHED-TTL:PT1H
BEGIN:VTIMEZONE
TZID:Europe/Budapest
BEGIN:DAYLIGHT
TZOFFSETFROM:+0100
TZOFFSETTO:+0200
TZNAME:CEST
DTSTART:20240331T010000
END:DAYLIGHT
BEGIN:STANDARD
TZOFFSETFROM:+0200
TZOFFSETTO:+0100
TZNAME:CET
DTSTART:20241027T010000
END:STANDARD
BEGIN:DAYLIGHT
TZOFFSETFROM:+0100
TZOFFSETTO:+0200
TZNAME:CEST
DTSTART:20250330T010000
END:DAYLIGHT
BEGIN:STANDARD
TZOFFSETFROM:+0200
TZOFFSETTO:+0100
TZNAME:CET
DTSTART:20251026T010000
END:STANDARD
BEGIN:DAYLIGHT
TZOFFSETFROM:+0100
TZOFFSETTO:+0200
TZNAME:CEST
DTSTART:20260329T010000
END:DAYLIGHT
BEGIN:STANDARD
TZOFFSETFROM:+0200
TZOFFSETTO:+0100
TZNAME:CET
DTSTART:20261025T010000
END:STANDARD
END:VTIMEZONE
BEGIN:VEVENT
DTSTART;TZID=Europe/Budapest:20250212T093000
DTEND;TZID=Europe/Budapest:20250212T123000
DTSTAMP:20260420T174505
CREATED:20250103T201513Z
LAST-MODIFIED:20250131T091901Z
UID:4340-1739352600-1739363400@juhhe.hu
SUMMARY:Miskolci klubtalálkozó
DESCRIPTION:Juhhé! Kiváló helyen jársz!  \nEz az esemény ahova a vállalkozók ezért jönnek össze\, hogy egymástól tanuljanak\, egymást segítsék\, együtt fejlődjenek és növekedjenek. \nTanulj\, építs kapcsolatokat és érezd jól magad VELÜNK! Olvass tovább a program részleteiről: \n\nPROGRAM:\n\n9:30 Érkezés\, svédasztalos reggeli\, kötetlen kapcsolatépítéssel\n10:00 Kezdés\, köszöntő\n10:15 Edukációs előadás\n10:30 Klubtag bemutatkozó\n10:45 Irányított bemutatkozókör\n11:30 Záró gondolatok\nutána kötetlen kapcsolatépítés\n12:30 Program vége\n\n\n\nRészvételi díj: 6 000 Ft+Áfa \nA részvétel regisztrációhoz kötött\, mely tartalmazza a svédasztalos reggelit\, kávét\, üdítőt stb. és a résztvevők elérhetőségeinek listáját! \nParkolás: Szálloda parkolójában vagy az épület előtt. \n \nKikkel találkozhatsz?  \nSenkinek nincs a homlokára írva\, hogy kit ismer\, kivel dolgozik együtt\, ki a partnere vagy milyen ajánlást tudna neked adni. \nIsmerd meg klubtagjainkat\, a csoportösszetétel nagyon változatos és sokszor olyantól kapsz ajánlást\, akitől nem is számítanál rá.\nTegyél minket bátran próbára\, hogy NEKED milyen ajánlást tudunk adni! \nHa ez még mindig nem volt elég\, összeszedtük miért érdemes hozzánk eljönnöd? \nÉrtékes kapcsolatok: Olyan emberekkel találkozhatsz\, akik valóban értenek a vállalkozói lét nehézségeihez és örömeihez egyaránt és nem félnek tapasztalataikat megosztani másokkal sem! \nÜzleti lehetőségek: Új üzleti lehetőségek nyílnak meg előtted\, amelyekre eddig talán nem is gondoltál. Sokszor gondoljuk azt\, hogy például én mint egy könyvelő mit kezdjek egy asztalossal\, de láttál már olyan embert akinek a homlokára van írva\, hogy kiket ismer és milyen kapcsolatai vannak? \nInspiráció és tanulás: Kiemelkedő előadók osztják meg tapasztalataikat és stratégiáikat\, amelyek segítenek még sikeresebbé válni. \nKözösség: Egy támogató közösség részévé válhatsz\, ahol mindenki segíti a másikat a fejlődésben és növekedésben\, ha nem hiszed gyere el és nézd meg magad!  \nMinden találkozó során megismerhetsz egy klubtagunkat tartalmasabban és kézzelfogható\, vállalkozásodba azonnal beépíthető tudást kaphatsz! \nGyere és éld át az igazi Juhhé! érzést!\n\nKérdés esetén érdeklődj:\n+36 20 326 1876
URL:https://juhhe.hu/esemeny/miskolci-klubtalalkozo-250212/
LOCATION:City Hotel Miskolc – Renomé Café & Bistro\, Csabai kapu 8.\, Miskolc\, 3529\, Magyarország
CATEGORIES:Üzleti találkozók
ATTACH;FMTTYPE=image/webp:https://juhhe.hu/wp-content/uploads/2024/09/miskolci-talalkozo.webp
ORGANIZER;CN="Juhh%C3%A9! Business":MAILTO:info@juhhe.com
END:VEVENT
END:VCALENDAR