BEGIN:VCALENDAR
VERSION:2.0
PRODID:-//Juhhé! Business - ECPv6.15.20//NONSGML v1.0//EN
CALSCALE:GREGORIAN
METHOD:PUBLISH
X-WR-CALNAME:Juhhé! Business
X-ORIGINAL-URL:https://juhhe.hu
X-WR-CALDESC:Események Juhhé! Business
REFRESH-INTERVAL;VALUE=DURATION:PT1H
X-Robots-Tag:noindex
X-PUBLISHED-TTL:PT1H
BEGIN:VTIMEZONE
TZID:Europe/Budapest
BEGIN:DAYLIGHT
TZOFFSETFROM:+0100
TZOFFSETTO:+0200
TZNAME:CEST
DTSTART:20230326T010000
END:DAYLIGHT
BEGIN:STANDARD
TZOFFSETFROM:+0200
TZOFFSETTO:+0100
TZNAME:CET
DTSTART:20231029T010000
END:STANDARD
BEGIN:DAYLIGHT
TZOFFSETFROM:+0100
TZOFFSETTO:+0200
TZNAME:CEST
DTSTART:20240331T010000
END:DAYLIGHT
BEGIN:STANDARD
TZOFFSETFROM:+0200
TZOFFSETTO:+0100
TZNAME:CET
DTSTART:20241027T010000
END:STANDARD
BEGIN:DAYLIGHT
TZOFFSETFROM:+0100
TZOFFSETTO:+0200
TZNAME:CEST
DTSTART:20250330T010000
END:DAYLIGHT
BEGIN:STANDARD
TZOFFSETFROM:+0200
TZOFFSETTO:+0100
TZNAME:CET
DTSTART:20251026T010000
END:STANDARD
BEGIN:DAYLIGHT
TZOFFSETFROM:+0100
TZOFFSETTO:+0200
TZNAME:CEST
DTSTART:20260329T010000
END:DAYLIGHT
BEGIN:STANDARD
TZOFFSETFROM:+0200
TZOFFSETTO:+0100
TZNAME:CET
DTSTART:20261025T010000
END:STANDARD
END:VTIMEZONE
BEGIN:VEVENT
DTSTART;TZID=Europe/Budapest:20250115T093000
DTEND;TZID=Europe/Budapest:20250115T130000
DTSTAMP:20260420T160734
CREATED:20241212T123727Z
LAST-MODIFIED:20241216T103759Z
UID:10000056-1736933400-1736946000@juhhe.hu
SUMMARY:Miskolci klubtalálkozó
DESCRIPTION:Miskolci és környéki vállalkozók találkozója.\nSOK SZERETETTEL MEGHÍVUNK \nNyolcadik éve építik a klubunk tagjai tudatosan üzleti kapcsolataikat.  \n2024-ig Budapesten tettük meg mindezt\, de január óta az ország megyei jogú városaiban kezdtünk el terjeszkedni! Így Debrecen és Nyíregyháza után Miskolcra is megérkeztünk\, ahol nem kisebb célunk\, hogy a helyi vállalkozók számára ne csak egy üzleti érzést\, hanem egy valódi üzleti klubbot is elhozzunk!  \n \nA találkozó során erről is szó fog esni\, de ahogy nálunk szokás edukáció és egy üzleti bemutatkozó is lesz\, az irányított kapcsolatépítésen kívül! \nHa még soha nem jártál üzleti találkozón vagy jártál már\, de nem jó szájízzel távoztál\, akkor sincs mitől tartanod\, hisz a nevünk nem véletlenül Juhhé!  \nGyere és tarts velünk\, ha szimpatikus amit olvasol! \n  \n\n\nPROGRAM: \n\n9:30 Érkezés\, svédasztalos reggeli\, kötetlen kapcsolatépítéssel\n10:00 Kezdés\, köszöntő\n10:15 Edukációs előadás\n10:30 Klubtag bemutatkozó\n10:45 Irányított bemutatkozókör\n11:30 Záró gondolatok\nutána kötetlen kapcsolatépítés\n12:30 Program vége\n\n\n\nRészvételi díj: 6 000 Ft+Áfa \nA részvétel regisztrációhoz kötött\, mely tartalmazza a svéd asztalos reggelit\, kávét\, üdítőt stb. és a résztvevők elérhetőségeinek listáját! \n\n\nKérdés esetén érdeklődj:\n+36 20 326 1876
URL:https://juhhe.hu/esemeny/miskolci-klubtalalkozo-250115/
LOCATION:City Hotel Miskolc – Renomé Café & Bistro\, Csabai kapu 8.\, Miskolc\, 3529\, Magyarország
CATEGORIES:Üzleti találkozók
ATTACH;FMTTYPE=image/webp:https://juhhe.hu/wp-content/uploads/2024/09/miskolci-talalkozo.webp
ORGANIZER;CN="Juhh%C3%A9! Business":MAILTO:info@juhhe.com
END:VEVENT
BEGIN:VEVENT
DTSTART;TZID=Europe/Budapest:20241211T093000
DTEND;TZID=Europe/Budapest:20241211T130000
DTSTAMP:20260420T160734
CREATED:20241115T105752Z
LAST-MODIFIED:20241115T105752Z
UID:10000050-1733909400-1733922000@juhhe.hu
SUMMARY:Miskolci klubtalálkozó
DESCRIPTION:Miskolci és környéki vállalkozók találkozója.\nSOK SZERETETTEL MEGHÍVUNK \nNyolcadik éve építik a klubunk tagjai tudatosan üzleti kapcsolataikat.  \n2024-ig Budapesten tettük meg mindezt\, de január óta az ország megyei jogú városaiban kezdtünk el terjeszkedni! Így Debrecen és Nyíregyháza után Miskolcra is megérkeztünk\, ahol nem kisebb célunk\, hogy a helyi vállalkozók számára ne csak egy üzleti érzést\, hanem egy valódi üzleti klubbot is elhozzunk!  \n \nA találkozó során erről is szó fog esni\, de ahogy nálunk szokás edukáció és egy üzleti bemutatkozó is lesz\, az irányított kapcsolatépítésen kívül! \nHa még soha nem jártál üzleti találkozón vagy jártál már\, de nem jó szájízzel távoztál\, akkor sincs mitől tartanod\, hisz a nevünk nem véletlenül Juhhé!  \nGyere és tarts velünk\, ha szimpatikus amit olvasol! \n  \n\n\nPROGRAM: \n\n9:30 Érkezés\, Svéd asztalos reggeli\, kötetlen kapcsolatépítéssel\n10:00 Kezdés\, köszöntő\n10:15 Edukációs előadás\n10:30 Klubtag bemutatkozó\n10:45 Irányított bemutatkozókör\n11:30 Záró gondolatok\nutána kötetlen kapcsolatépítés\n12:30 Program vége\n\n\n\nRészvételi díj: 6 000 Ft+Áfa \nA részvétel regisztrációhoz kötött\, mely tartalmazza a svéd asztalos reggelit\, kávét\, üdítőt stb. és a résztvevők elérhetőségeinek listáját! \n\n\nKérdés esetén érdeklődj:\n+36 20 326 1876
URL:https://juhhe.hu/esemeny/miskolci-klubtalalkozo-241211/
LOCATION:City Hotel Miskolc – Renomé Café & Bistro\, Csabai kapu 8.\, Miskolc\, 3529\, Magyarország
CATEGORIES:Üzleti találkozók
ATTACH;FMTTYPE=image/webp:https://juhhe.hu/wp-content/uploads/2024/09/miskolci-talalkozo.webp
ORGANIZER;CN="Juhh%C3%A9! Business":MAILTO:info@juhhe.com
END:VEVENT
BEGIN:VEVENT
DTSTART;TZID=Europe/Budapest:20241127T093000
DTEND;TZID=Europe/Budapest:20241127T130000
DTSTAMP:20260420T160734
CREATED:20241104T095911Z
LAST-MODIFIED:20241104T095911Z
UID:10000046-1732699800-1732712400@juhhe.hu
SUMMARY:Miskolci klubtalálkozó
DESCRIPTION:Miskolci és környéki vállalkozók találkozója.\nSOK SZERETETTEL MEGHÍVUNK \nNyolcadik éve építik a klubunk tagjai tudatosan üzleti kapcsolataikat.  \n2024-ig Budapesten tettük meg mindezt\, de január óta az ország megyei jogú városaiban kezdtünk el terjeszkedni! Így Debrecen és Nyíregyháza után Miskolcra is megérkeztünk\, ahol nem kisebb célunk\, hogy a helyi vállalkozók számára ne csak egy üzleti érzést\, hanem egy valódi üzleti klubbot is elhozzunk!  \n \nA találkozó során erről is szó fog esni\, de ahogy nálunk szokás edukáció és egy üzleti bemutatkozó is lesz\, az irányított kapcsolatépítésen kívül! \nHa még soha nem jártál üzleti találkozón vagy jártál már\, de nem jó szájízzel távoztál\, akkor sincs mitől tartanod\, hisz a nevünk nem véletlenül Juhhé!  \nGyere és tarts velünk\, ha szimpatikus amit olvasol! \n  \n\n\nPROGRAM: \n\n9:30 Érkezés\, Svéd asztalos reggeli\, kötetlen kapcsolatépítéssel\n10:00 Kezdés\, köszöntő\n10:15 Edukációs előadás\n10:30 Klubtag bemutatkozó\n10:45 Irányított bemutatkozókör\n11:30 Záró gondolatok\nutána kötetlen kapcsolatépítés\n12:30 Program vége\n\n\n\nRészvételi díj: 6 000 Ft+Áfa \nA részvétel regisztrációhoz kötött\, mely tartalmazza a svéd asztalos reggelit\, kávét\, üdítőt stb. és a résztvevők elérhetőségeinek listáját! \n\n\nKérdés esetén érdeklődj:\n+36 20 326 1876
URL:https://juhhe.hu/esemeny/miskolci-klubtalalkozo/
LOCATION:City Hotel Miskolc – Renomé Café & Bistro\, Csabai kapu 8.\, Miskolc\, 3529\, Magyarország
CATEGORIES:Üzleti találkozók
ATTACH;FMTTYPE=image/jpeg:https://juhhe.hu/wp-content/uploads/2024/07/Miskolci-klubtalalkozo.jpg
ORGANIZER;CN="Juhh%C3%A9! Business":MAILTO:info@juhhe.com
END:VEVENT
BEGIN:VEVENT
DTSTART;TZID=Europe/Budapest:20241113T093000
DTEND;TZID=Europe/Budapest:20241113T130000
DTSTAMP:20260420T160734
CREATED:20241104T085317Z
LAST-MODIFIED:20241104T095253Z
UID:10000044-1731490200-1731502800@juhhe.hu
SUMMARY:Miskolci klubtalálkozó
DESCRIPTION:Miskolci és környéki vállalkozók találkozója.\nSOK SZERETETTEL MEGHÍVUNK \nNyolcadik éve építik a klubunk tagjai tudatosan üzleti kapcsolataikat.  \n2024-ig Budapesten tettük meg mindezt\, de január óta az ország megyei jogú városaiban kezdtünk el terjeszkedni! Így Debrecen és Nyíregyháza után Miskolcra is megérkeztünk\, ahol nem kisebb célunk\, hogy a helyi vállalkozók számára ne csak egy üzleti érzést\, hanem egy valódi üzleti klubbot is elhozzunk!  \n  \nA találkozó során erről is szó fog esni\, de ahogy nálunk szokás edukáció és egy üzleti bemutatkozó is lesz\, az irányított kapcsolatépítésen kívül! \nHa még soha nem jártál üzleti találkozón vagy jártál már\, de nem jó szájízzel távoztál\, akkor sincs mitől tartanod\, hisz a nevünk nem véletlenül Juhhé!  \nGyere és tarts velünk\, ha szimpatikus amit olvasol! \n  \n\n\nPROGRAM: \n\n9:30 Érkezés\, Svéd asztalos reggeli\, kötetlen kapcsolatépítéssel\n10:00 Kezdés\, köszöntő\n10:15 Edukációs előadás\n10:30 Klubtag bemutatkozó\n10:45 Irányított bemutatkozókör\n11:30 Záró gondolatok\nutána kötetlen kapcsolatépítés\n12:30 Program vége\n\n\n\nRészvételi díj: 6 000 Ft+Áfa \nA részvétel regisztrációhoz kötött\, mely tartalmazza a svéd asztalos reggelit\, kávét\, üdítőt stb. és a résztvevők elérhetőségeinek listáját! \n\n\nKérdés esetén érdeklődj:\n+36 20 326 1876
URL:https://juhhe.hu/esemeny/miskolci-klubtalalkozo-241113/
LOCATION:City Hotel Miskolc – Renomé Café & Bistro\, Csabai kapu 8.\, Miskolc\, 3529\, Magyarország
CATEGORIES:Üzleti találkozók
ATTACH;FMTTYPE=image/webp:https://juhhe.hu/wp-content/uploads/2024/09/miskolci-talalkozo.webp
ORGANIZER;CN="Juhh%C3%A9! Business":MAILTO:info@juhhe.com
END:VEVENT
BEGIN:VEVENT
DTSTART;TZID=Europe/Budapest:20241030T093000
DTEND;TZID=Europe/Budapest:20241030T130000
DTSTAMP:20260420T160734
CREATED:20241017T100334Z
LAST-MODIFIED:20241017T101804Z
UID:10000042-1730280600-1730293200@juhhe.hu
SUMMARY:Miskolci klubtalálkozó
DESCRIPTION:Miskolci és környéki vállalkozók találkozója.\nSOK SZERETETTEL MEGHÍVUNK \nNyolcadik éve építik a klubunk tagjai tudatosan üzleti kapcsolataikat.  \n2024-ig Budapesten tettük meg mindezt\, de január óta az ország megyei jogú városaiban kezdtünk el terjeszkedni! Így Debrecen és Nyíregyháza után Miskolcra is megérkeztünk\, ahol nem kisebb célunk\, hogy a helyi vállalkozók számára ne csak egy üzleti érzést\, hanem egy valódi üzleti klubbot is elhozzunk!  \nA találkozó során erről is szó fog esni\, de ahogy nálunk szokás edukáció és egy üzleti bemutatkozó is lesz\, az irányított kapcsolatépítésen kívül! \nHa még soha nem jártál üzleti találkozón vagy jártál már\, de nem jó szájízzel távoztál\, akkor sincs mitől tartanod\, hisz a nevünk nem véletlenül Juhhé!  \nGyere és tarts velünk\, ha szimpatikus amit olvasol! \n \n\n\nPROGRAM: \n\n9:30 Érkezés\, Svéd asztalos reggeli\, kötetlen kapcsolatépítéssel\n10:00 Kezdés\, köszöntő\n10:15 Edukációs előadás – Winkler András – A kapcsolatépítés kulcsa\n10:30 Egy klubtag bemutatkozója\n10:45 Irányított bemutatkozókör\n11:30 Záró gondolatok\nutána kötetlen kapcsolatépítés\n12:30 Program vége\n\n\n\nRészvételi díj: 6 000 Ft+Áfa \nA részvétel regisztrációhoz kötött\, mely tartalmazza a svéd asztalos reggelit\, kávét\, üdítőt stb. és a résztvevők elérhetőségeinek listáját! \n\nKérdés esetén érdeklődj:\n+36 20 326 1876
URL:https://juhhe.hu/esemeny/miskolci-klubtalalkozo-241030/
LOCATION:City Hotel Miskolc – Renomé Café & Bistro\, Csabai kapu 8.\, Miskolc\, 3529\, Magyarország
CATEGORIES:Üzleti találkozók
ATTACH;FMTTYPE=image/webp:https://juhhe.hu/wp-content/uploads/2024/09/miskolci-talalkozo.webp
ORGANIZER;CN="Juhh%C3%A9! Business":MAILTO:info@juhhe.com
END:VEVENT
BEGIN:VEVENT
DTSTART;TZID=Europe/Budapest:20241016T093000
DTEND;TZID=Europe/Budapest:20241016T123000
DTSTAMP:20260420T160734
CREATED:20241002T104707Z
LAST-MODIFIED:20241017T100312Z
UID:10000036-1729071000-1729081800@juhhe.hu
SUMMARY:Miskolci klubtalálkozó
DESCRIPTION:Miskolci és környéki vállalkozók találkozója.\nSOK SZERETETTEL MEGHÍVUNK \nHetedik éve építik a klubunk tagjai tudatosan üzleti kapcsolataikat.  \n2024-ig Budapesten tettük meg mindezt\, de január óta az ország megyei jogú városaiban kezdtünk el terjeszkedni! Így Debrecen és Nyíregyháza után Miskolcra is megérkeztünk\, ahol nem kisebb célunk\, hogy a helyi vállalkozók számára ne csak egy üzleti érzést\, hanem egy valódi üzleti klubbot is elhozzunk!  \n  \nA találkozó során erről is szó fog esni\, de ahogy nálunk szokás edukáció és egy üzleti bemutatkozó is lesz\, az irányított kapcsolatépítésen kívül! \nHa még soha nem jártál üzleti találkozón vagy jártál már\, de nem jó szájízzel távoztál\, akkor sincs mitől tartanod\, hisz a nevünk nem véletlenül Juhhé!  \nGyere és tarts velünk\, ha szimpatikus amit olvasol! \n  \n\n\nPROGRAM: \n\n9:30 Érkezés\, Svéd asztalos reggeli\, kötetlen kapcsolatépítéssel\n10:00 Kezdés\, köszöntő\n10:15 Hogyan legyél sikeres egy üzleti klubban?\nCsősz Péter a Juhhé! Business Club alapítójának előadása\n10:30 Egy miskolci klubtag bemutatkozója\n10:45 Irányított bemutatkozókör\n11:30 Záró gondolatok\nutána kötetlen kapcsolatépítés\n12:30 Program vége\n\n\n\nRészvételi díj: 6 000 Ft+Áfa \nA részvétel regisztrációhoz kötött\, mely tartalmazza a svéd asztalos reggelit\, kávét\, üdítőt stb. és a résztvevők elérhetőségeinek listáját! \n\n\nKérdés esetén érdeklődj:\n+36 20 326 1876
URL:https://juhhe.hu/esemeny/miskolci-klubtalalkozo-20241016/
LOCATION:City Hotel Miskolc – Renomé Café & Bistro\, Csabai kapu 8.\, Miskolc\, 3529\, Magyarország
CATEGORIES:Üzleti találkozók
ATTACH;FMTTYPE=image/webp:https://juhhe.hu/wp-content/uploads/2024/09/miskolci-talalkozo.webp
ORGANIZER;CN="Juhh%C3%A9! Business":MAILTO:info@juhhe.com
END:VEVENT
BEGIN:VEVENT
DTSTART;TZID=Europe/Budapest:20241002T093000
DTEND;TZID=Europe/Budapest:20241002T123000
DTSTAMP:20260420T160734
CREATED:20240919T144312Z
LAST-MODIFIED:20241001T103841Z
UID:10000033-1727861400-1727872200@juhhe.hu
SUMMARY:Miskolci klubtalálkozó
DESCRIPTION:Miskolci és környéki vállalkozók találkozója.\nSOK SZERETETTEL MEGHÍVUNK \nHetedik éve építik a klubunk tagjai tudatosan üzleti kapcsolataikat.  \n2024-ig Budapesten tettük meg mindezt\, de január óta az ország megyei jogú városaiban kezdtünk el terjeszkedni! Így Debrecen és Nyíregyháza után Miskolcra is megérkeztünk\, ahol nem kisebb célunk\, hogy a helyi vállalkozók számára ne csak egy üzleti érzést\, hanem egy valódi üzleti klubbot is elhozzunk!  \n  \nA találkozó során erről is szó fog esni\, de ahogy nálunk szokás edukáció és egy üzleti bemutatkozó is lesz\, az irányított kapcsolatépítésen kívül! \nHa még soha nem jártál üzleti találkozón vagy jártál már\, de nem jó szájízzel távoztál\, akkor sincs mitől tartanod\, hisz a nevünk nem véletlenül Juhhé!  \nGyere és tarts velünk\, ha szimpatikus amit olvasol! \n  \n\n\nPROGRAM: \n\n9:30 ÉrkezésSvéd asztalos reggeli\, kötetlen kapcsolatépítéssel\n10:00 Kezdés\, köszöntő\n10:15 Edukációs percek\n10:30 Egy klubtag bemutatkozója\n10:45 Irányított bemutatkozókör\n11:30 Záró gondolatok\nutána kötetlen kapcsolatépítés\n12:30 Program vége\n\n\n\nRészvételi díj: 6 000 Ft+Áfa \nA részvétel regisztrációhoz kötött\, mely tartalmazza a svéd asztalos reggelit\, kávét\, üdítőt stb. és a résztvevők elérhetőségeinek listáját! \n\n\nKérdés esetén érdeklődj:\n+36 20 326 1876
URL:https://juhhe.hu/esemeny/miskolci-klubtalalkozo-241002/
LOCATION:City Hotel Miskolc – Renomé Café & Bistro\, Csabai kapu 8.\, Miskolc\, 3529\, Magyarország
CATEGORIES:Üzleti találkozók
ATTACH;FMTTYPE=image/webp:https://juhhe.hu/wp-content/uploads/2024/09/miskolci-talalkozo.webp
ORGANIZER;CN="Juhh%C3%A9! Business":MAILTO:info@juhhe.com
END:VEVENT
BEGIN:VEVENT
DTSTART;TZID=Europe/Budapest:20240918T083000
DTEND;TZID=Europe/Budapest:20240918T120000
DTSTAMP:20260420T160734
CREATED:20240826T082917Z
LAST-MODIFIED:20240909T114640Z
UID:10000029-1726648200-1726660800@juhhe.hu
SUMMARY:Miskolci klubtalálkozó
DESCRIPTION:Miskolci és környéki vállalkozók találkozója.\nSOK SZERETETTEL MEGHÍVUNK \nHetedik éve építik a klubunk tagjai tudatosan üzleti kapcsolataikat.  \n2024-ig Budapesten tettük meg mindezt\, de január óta az ország megyei jogú városaiban kezdtünk el terjeszkedni! Így Debrecen és Nyíregyháza után Miskolcra is megérkeztünk\, ahol nem kisebb célunk\, hogy a helyi vállalkozók számára ne csak egy üzleti érzést\, hanem egy valódi üzleti klubbot is elhozzunk!  \n  \nA találkozó során erről is szó fog esni\, de ahogy nálunk szokás edukáció és egy üzleti bemutatkozó is lesz\, az irányított kapcsolatépítésen kívül! \nHa még soha nem jártál üzleti találkozón vagy jártál már\, de nem jó szájízzel távoztál\, akkor sincs mitől tartanod\, hisz a nevünk nem véletlenül Juhhé!  \nGyere és tarts velünk\, ha szimpatikus amit olvasol! \n  \n\n\nPROGRAM: \n\n8:30 Érkezés\nSvéd asztalos reggeli\, kötetlen kapcsolatépítéssel\n9:00 Kezdés\, köszöntő\n9:15 Hogyan legyél sikeres egy üzleti klubban?\nCsősz Péter a Juhhé! Business Club alapítójának előadása\n9:30 Privát Bank a mindennapokban\nFridrik Gábor az első miskolci Juhhé! Business klubtag bemutatkozója\n9:45 Irányított bemutatkozókör\n10:30 Záró gondolatok\nutána kötetlen kapcsolatépítés\n12:00 Program vége\n\n\n\nRészvételi díj: 6 000 Ft+Áfa \nA részvétel regisztrációhoz kötött\, mely tartalmazza a svéd asztalos reggelit\, kávét\, üdítőt stb. és a résztvevők elérhetőségeinek listáját! \n\n\nKérdés esetén érdeklődj:\n+36 20 326 1876
URL:https://juhhe.hu/esemeny/miskolci-klubtalalkozo-240918/
LOCATION:City Hotel Miskolc – Renomé Café & Bistro\, Csabai kapu 8.\, Miskolc\, 3529\, Magyarország
CATEGORIES:Üzleti találkozók
ATTACH;FMTTYPE=image/jpeg:https://juhhe.hu/wp-content/uploads/2024/07/Miskolci-klubtalalkozo.jpg
ORGANIZER;CN="Juhh%C3%A9! Business":MAILTO:info@juhhe.com
END:VEVENT
END:VCALENDAR